BEGIN:VCALENDAR
VERSION:2.0
PRODID:-//San Diego Diplomacy Council - ECPv6.15.18//NONSGML v1.0//EN
CALSCALE:GREGORIAN
METHOD:PUBLISH
X-ORIGINAL-URL:https://sandiegodiplomacy.org
X-WR-CALDESC:Events for San Diego Diplomacy Council
REFRESH-INTERVAL;VALUE=DURATION:PT1H
X-Robots-Tag:noindex
X-PUBLISHED-TTL:PT1H
BEGIN:VTIMEZONE
TZID:America/Los_Angeles
BEGIN:DAYLIGHT
TZOFFSETFROM:-0800
TZOFFSETTO:-0700
TZNAME:PDT
DTSTART:20180311T100000
END:DAYLIGHT
BEGIN:STANDARD
TZOFFSETFROM:-0700
TZOFFSETTO:-0800
TZNAME:PST
DTSTART:20181104T090000
END:STANDARD
BEGIN:DAYLIGHT
TZOFFSETFROM:-0800
TZOFFSETTO:-0700
TZNAME:PDT
DTSTART:20190310T100000
END:DAYLIGHT
BEGIN:STANDARD
TZOFFSETFROM:-0700
TZOFFSETTO:-0800
TZNAME:PST
DTSTART:20191103T090000
END:STANDARD
BEGIN:DAYLIGHT
TZOFFSETFROM:-0800
TZOFFSETTO:-0700
TZNAME:PDT
DTSTART:20200308T100000
END:DAYLIGHT
BEGIN:STANDARD
TZOFFSETFROM:-0700
TZOFFSETTO:-0800
TZNAME:PST
DTSTART:20201101T090000
END:STANDARD
END:VTIMEZONE
BEGIN:VEVENT
DTSTART;VALUE=DATE:20190903
DTEND;VALUE=DATE:20190908
DTSTAMP:20260425T042857
CREATED:20190723T221609Z
LAST-MODIFIED:20190723T221609Z
UID:2571-1567468800-1567900799@sandiegodiplomacy.org
SUMMARY:Border Security: Interagency Cooperation and Information Sharing
DESCRIPTION:6 visitors from Indonesia will be coming to make professional connections in San Diego exploring the following specific objectives for the project outlined by the Department of State: \n\nExamine how U.S. borders are protected through the use of personnel\, technology\, information sharing\, and infrastructure; as well as collaborative efforts with neighboring countries\, and many federal\, state\, local\, tribal\, and territorial partners\nLearn how various stakeholders comb through information using cutting-edge technology and analytic tools in an effort to protect the United States and its citizens\nObserve how stakeholders coordinate and share information across the federal\, state and local government as well as with partner nations in an effort to protect against global criminal organizations and terrorism\nAnalyze the databases and information technology used to share and maintain information on the border\nLearn best practices on daily border operations and investigations\, including passenger assessment\, inspection of conveyances and cargo\, narcotics detection\, K9 operations\, outbound operations\, and patrol of the border away from ports of entry\nLearn best practices on how federal law enforcement agencies and local police collaborate across the interagency on immigration/customs operations and investigations initiated at the border.
URL:https://sandiegodiplomacy.org/event/border-security-interagency-cooperation-and-information-sharing/
CATEGORIES:Incoming Delegations
END:VEVENT
BEGIN:VEVENT
DTSTART;VALUE=DATE:20190819
DTEND;VALUE=DATE:20190825
DTSTAMP:20260425T042857
CREATED:20190614T180718Z
LAST-MODIFIED:20190626T213156Z
UID:2528-1566172800-1566691199@sandiegodiplomacy.org
SUMMARY:Combating Wildlife Trafficking
DESCRIPTION:12 visitors from multiple countries will be coming to make professional connections in San Diego exploring the following specific objectives for the project outlined by the Department of State: \n\nAssess U.S. efforts to deter poaching and trafficking of wildlife resources through wildlife protection policies\, law enforcement\, and criminal prosecution;\nExplore approaches taken by non-governmental organizations\, citizens\, and private organizations to promote and support wildlife protection and discourage consumer demand;\nDiscuss international collaboration at the federal and state levels to combat wildlife poaching and strengthen global cooperation against wildlife trafficking; and\nExamine the harmful impact of international wildlife trafficking on political\, economic\, environmental\, and social stability.
URL:https://sandiegodiplomacy.org/event/combating-wildlife-trafficking/
CATEGORIES:Incoming Delegations
END:VEVENT
BEGIN:VEVENT
DTSTART;VALUE=DATE:20190808
DTEND;VALUE=DATE:20190814
DTSTAMP:20260425T042857
CREATED:20190327T233436Z
LAST-MODIFIED:20190626T213049Z
UID:2325-1565222400-1565740799@sandiegodiplomacy.org
SUMMARY:The U.S. Judicial System: Protecting Women and Children
DESCRIPTION:24 visitors from multiple countries will be coming to make professional connections in San Diego exploring the following specific objectives for the project outlined by the Department of State: \n\nExplore rule of law and the U.S. judicial system\, with special emphasis on the legal structures in place to protect women and children;\nIdentify discriminatory practices based on gender and methods of addressing and resolving them within the U.S. social\, political\, and legal sectors;\nExamine the juvenile justice system in the U.S. and best practices in treatment and rehabilitation tailored to the needs of juvenile offenders and their families; and\nCreate linkages among professionals in the legal field working to promote international cooperation in strengthening access to justice for women and children.
URL:https://sandiegodiplomacy.org/event/the-u-s-judicial-system-protecting-women-and-children/
CATEGORIES:Incoming Delegations
END:VEVENT
BEGIN:VEVENT
DTSTART;VALUE=DATE:20190807
DTEND;VALUE=DATE:20190811
DTSTAMP:20260425T042857
CREATED:20190613T205912Z
LAST-MODIFIED:20190723T221349Z
UID:2527-1565136000-1565481599@sandiegodiplomacy.org
SUMMARY:Marine Waste and Debris Management
DESCRIPTION:12 visitors from Indonesia will be coming to make professional connections in San Diego exploring the following specific objectives for the project outlined by the Department of State: \n\nSupport learning by municipal officials about effective municipal waste management practices\, marine debris prevention\, and monitoring and evaluation tools to ensure effectiveness.\nBuild relationships between Indonesian municipal officials and potential U.S. partners to support the implementation of effective waste management in Indonesian cities\nHighlight U.S. commercial technologies as potential solutions to Indonesian waste management challenges
URL:https://sandiegodiplomacy.org/event/addressing-marine-debris/
CATEGORIES:Incoming Delegations
END:VEVENT
BEGIN:VEVENT
DTSTART;VALUE=DATE:20190806
DTEND;VALUE=DATE:20190811
DTSTAMP:20260425T042857
CREATED:20190613T204529Z
LAST-MODIFIED:20190626T212833Z
UID:2525-1565049600-1565481599@sandiegodiplomacy.org
SUMMARY:Border and Security Issues
DESCRIPTION:5 visitors from Kazakhstan will be coming to make professional connections in San Diego exploring the following specific objectives for the project outlined by the Department of State: \n\nExamine U.S. border and security models and concerns;\nDiscuss the U.S. approach to strategic trade controls and border security;\nExplore border security practices and tools\, especially for intercepting terrorist threats and curtailing trade in hazardous materials and technologies
URL:https://sandiegodiplomacy.org/event/border-and-security-issues/
CATEGORIES:Incoming Delegations
END:VEVENT
BEGIN:VEVENT
DTSTART;VALUE=DATE:20190727
DTEND;VALUE=DATE:20190807
DTSTAMP:20260425T042857
CREATED:20190626T212412Z
LAST-MODIFIED:20190628T175839Z
UID:2540-1564185600-1565135999@sandiegodiplomacy.org
SUMMARY:American English Teacher Seminar
DESCRIPTION:20 English as a Foreign Language (EFL) teachers from Philippines\, Taiwan\, Japan\, and South Korea will visit San Diego to learn about EFL and other education programs in San Diego.
URL:https://sandiegodiplomacy.org/event/american-english-teacher-seminar/
CATEGORIES:Incoming Delegations
END:VEVENT
BEGIN:VEVENT
DTSTART;VALUE=DATE:20190727
DTEND;VALUE=DATE:20190801
DTSTAMP:20260425T042857
CREATED:20190626T212559Z
LAST-MODIFIED:20190628T175923Z
UID:2542-1564185600-1564617599@sandiegodiplomacy.org
SUMMARY:Modern News Room
DESCRIPTION:8 Journalists from Central Asia will be coming to San Diego to gain insight into the aspects that make up today’s modern news room.
URL:https://sandiegodiplomacy.org/event/modern-news-room/
CATEGORIES:Incoming Delegations
END:VEVENT
BEGIN:VEVENT
DTSTART;VALUE=DATE:20190723
DTEND;VALUE=DATE:20190728
DTSTAMP:20260425T042857
CREATED:20190327T233129Z
LAST-MODIFIED:20190626T212041Z
UID:2324-1563840000-1564271999@sandiegodiplomacy.org
SUMMARY:Combating Trafficking in Persons I
DESCRIPTION:24 visitors from multiple countries will be coming to make professional connections in San Diego exploring the following specific objectives for the project outlined by the Department of State: \n\nReview U.S. government strategies to combat international trafficking in persons\, including crimes against women and children\, by examining the formulation\, administration\, and enforcement of U.S. policy on the national\, state\, and local levels;\nExamine the roles that government\, law enforcement\, the courts\, and local organizations play in detecting\, preventing\, and prosecuting crimes;\nExplore initiatives to recognize\, protect\, and assist victims of abuse and trafficking\, including victim recovery and reintegration programs; and\nInvestigate international law enforcement cooperation in trafficking in persons cases.
URL:https://sandiegodiplomacy.org/event/combating-trafficking-in-persons-i-2/
CATEGORIES:Incoming Delegations
END:VEVENT
BEGIN:VEVENT
DTSTART;VALUE=DATE:20190713
DTEND;VALUE=DATE:20190718
DTSTAMP:20260425T042857
CREATED:20190613T204113Z
LAST-MODIFIED:20190626T211937Z
UID:2523-1562976000-1563407999@sandiegodiplomacy.org
SUMMARY:U.S.-European Security Issues
DESCRIPTION:19 visitors from multiple countries in Europe will be coming to make professional connections in San Diego exploring the following specific objectives for the project outlined by the Department of State: \n\nExpose participants to the U.S. security and defense policy-making process and perspectives on global issues;\nExamine specific security issues\, such as regional conflicts\, weapons proliferation\, energy security\, homeland security\, international terrorism\, and the use of preventive diplomacy to address these challenges;\nDiscuss the European security architecture\, including the evolving roles of NATO\, the EU\, the UN\, and other international organizations in dealing with global crises; and;\nExplore the benefits of U.S. European cooperation on security policy worldwide.
URL:https://sandiegodiplomacy.org/event/u-s-european-security-issues/
CATEGORIES:Incoming Delegations
END:VEVENT
BEGIN:VEVENT
DTSTART;VALUE=DATE:20190713
DTEND;VALUE=DATE:20190718
DTSTAMP:20260425T042857
CREATED:20190613T202116Z
LAST-MODIFIED:20190626T211755Z
UID:2521-1562976000-1563407999@sandiegodiplomacy.org
SUMMARY:Recovering From Conflict and Trauma
DESCRIPTION:9 visitors from multiple countries will be coming to make professional connections in San Diego exploring the following specific objectives for the project outlined by the Department of State: \n\nExamine the social and psychological effects on children and adults suffering from post-traumatic stress disorders (PTSD) and shock as a result of conflict\, trauma\, displacement\, and natural disasters;\nS. treatments and strategies to address the needs of trauma victims such as psychotherapy\, exposure therapy\, cognitive restructuring\, community engagement\, meditation\, relaxation\, and art therapy.
URL:https://sandiegodiplomacy.org/event/recovering-from-conflict-and-trauma/
CATEGORIES:Incoming Delegations
END:VEVENT
BEGIN:VEVENT
DTSTART;VALUE=DATE:20190625
DTEND;VALUE=DATE:20190630
DTSTAMP:20260425T042857
CREATED:20190426T175622Z
LAST-MODIFIED:20190426T175622Z
UID:2384-1561420800-1561852799@sandiegodiplomacy.org
SUMMARY:Human and Civil Rights Advocacy and Awareness
DESCRIPTION:16 visitors from various countries in the Middle East and North Africa will be coming to make professional con-nections in San Diego exploring the following specific objectives for the project outlined by the Department of State: \n\nExamine the historical context of human rights advocacy in the U.S.\, and the contemporary foreign policy issues resulting from the United Nations’ adoption of the Universal Declaration of Human Rights;\nIllustrate the influence of human and civil rights activists on policy at the national\, state\, and local levels through lobbying\, media\, and grassroots campaigns;\nExplore the role and organizational structure of associations\, NGOs\, and religious organizations in ad-vancing U.S. civil rights and equal opportunity; and\nAnalyze a variety of human rights concerns related to issues such as domestic violence prevention\, disa-bility rights\, LGBTI rights\, freedom of press/speech/religion\, access to education\, and due process
URL:https://sandiegodiplomacy.org/event/human-and-civil-rights-advocacy-and-awareness/
CATEGORIES:Incoming Delegations
END:VEVENT
BEGIN:VEVENT
DTSTART;VALUE=DATE:20190616
DTEND;VALUE=DATE:20190621
DTSTAMP:20260425T042857
CREATED:20190328T185816Z
LAST-MODIFIED:20190328T185816Z
UID:2328-1560643200-1561075199@sandiegodiplomacy.org
SUMMARY:The Digital Economy - Transformative Technology For The Social Good
DESCRIPTION:Experts from 26 countries will be coming to make professional connections in San Diego exploring the following specific objectives for the project outlined by the Department of State: \n\nLearn about management and marketing strategies to assess and develop innovations;\nMeet with advocates and start-ups to learn about best practices and challenges in developing technology for the social good;\nMeet with investors involved in recognizing\, promoting\, and developing innovative solutions to labor and human rights challenges;\nLearn how blockchain can be used to protect the rights of low-wage workers; and\nLook at how blockchain-based currencies like Bitcoin may impact national economies\, including the secure flow of remittances and other cross-border payments.
URL:https://sandiegodiplomacy.org/event/the-digital-economy-transformative-technology-for-the-social-good/
CATEGORIES:Incoming Delegations
END:VEVENT
BEGIN:VEVENT
DTSTART;VALUE=DATE:20190613
DTEND;VALUE=DATE:20190619
DTSTAMP:20260425T042857
CREATED:20190426T174238Z
LAST-MODIFIED:20190426T174238Z
UID:2383-1560384000-1560902399@sandiegodiplomacy.org
SUMMARY:Lesson Learned From Base-Hosting Communities
DESCRIPTION:9 visitors from Japan will be coming to make professional connections in San Diego exploring the following specific objectives for the project outlined by the Department of State: \n\nProvide participants with opportunities to share perspectives and ideas on the issues faced by base-hosting communities;\nDiscuss the economic externalities of military bases\, and\nExplore ways to facilitate strong\, positive relations between bases and civilian communities.
URL:https://sandiegodiplomacy.org/event/lesson-learned-from-base-hosting-communities/
CATEGORIES:Incoming Delegations
END:VEVENT
BEGIN:VEVENT
DTSTART;VALUE=DATE:20190608
DTEND;VALUE=DATE:20190613
DTSTAMP:20260425T042857
CREATED:20190328T183151Z
LAST-MODIFIED:20190328T183233Z
UID:2326-1559952000-1560383999@sandiegodiplomacy.org
SUMMARY:Advancing Minority Rights
DESCRIPTION:13 visitors from Europe will be coming to make professional connections in San Diego exploring the following specific objectives for the project outlined by the Department of State: \n\nExamine U.S. and international initiatives to promote and protect the human rights of minority communities;\nExplore equal access to educational\, economic\, and healthcare opportunities for members of minority communities;\nAnalyze the legislative framework that ensures equal rights for minority communities;\nPresent different political and social perspectives on ethnic\, cultural\, gender\, racial\, and religious minority community rights; and\nObserve how organizations monitor\, influence\, and advocate for human and civil rights policy at the local\, state\, national\, and international levels.
URL:https://sandiegodiplomacy.org/event/advancing-minority-rights/
CATEGORIES:Incoming Delegations
END:VEVENT
BEGIN:VEVENT
DTSTART;VALUE=DATE:20190606
DTEND;VALUE=DATE:20190612
DTSTAMP:20260425T042857
CREATED:20190426T173624Z
LAST-MODIFIED:20190426T173624Z
UID:2382-1559779200-1560297599@sandiegodiplomacy.org
SUMMARY:Minority Civic Engagement
DESCRIPTION:5 visitors from Ukraine will be coming to make professional connections in San Diego exploring the following specific objectives for the project outlined by the Department of State: \n\nExamine federal\, state\, and local strategies for engaging diverse communities in society\nExplore strategies for local and national engagement with minority community leaders\nExamine best practices in building community trust\nExamine the role of public-private partnerships in supporting and engaging underserved communities\nReview public outreach campaigns designed to build trust and activate for diverse communities.
URL:https://sandiegodiplomacy.org/event/minority-civic-engagement/
CATEGORIES:Incoming Delegations
END:VEVENT
BEGIN:VEVENT
DTSTART;VALUE=DATE:20190602
DTEND;VALUE=DATE:20190606
DTSTAMP:20260425T042857
CREATED:20190426T173259Z
LAST-MODIFIED:20190426T173259Z
UID:2381-1559433600-1559779199@sandiegodiplomacy.org
SUMMARY:Police Professionalization Exchange Program
DESCRIPTION:20 high-level law enforcement officers from Mexico will be coming to San Diego on a Global Ties U.S. project focused on gender-based violence
URL:https://sandiegodiplomacy.org/event/police-professionalization-exchange-program/
CATEGORIES:Incoming Delegations
END:VEVENT
BEGIN:VEVENT
DTSTART;VALUE=DATE:20190531
DTEND;VALUE=DATE:20190606
DTSTAMP:20260425T042857
CREATED:20190327T232932Z
LAST-MODIFIED:20190327T233252Z
UID:2323-1559260800-1559779199@sandiegodiplomacy.org
SUMMARY:Transparency & Accountability in Government
DESCRIPTION:15 visitors from multiple countries in Africa will be coming to make professional connections in San Diego exploring the following specific objectives for the project outlined by the Department of State: \n\nEnhance understanding of the underlying principles of ethical systems for accountability in government and business in the United States;\nAddress international efforts to strengthen the integrity of governments and businesses;\nExamine the effect of transparency on trade\, investment\, and economic development;\nExplore the role of citizens\, traditional and new media\, academia\, and civil society in fostering transparency and accountability in government; and\nHighlight the mechanisms that enable citizens to foster good governance\, ethical standards\, and accountability at the local\, state\, and federal levels.
URL:https://sandiegodiplomacy.org/event/transparency-accountability-in-government-2/
CATEGORIES:Incoming Delegations
END:VEVENT
BEGIN:VEVENT
DTSTART;VALUE=DATE:20190507
DTEND;VALUE=DATE:20190510
DTSTAMP:20260425T042857
CREATED:20190426T173127Z
LAST-MODIFIED:20190426T173334Z
UID:2380-1557187200-1557446399@sandiegodiplomacy.org
SUMMARY:Raise The River Mexico
DESCRIPTION:20 US Americans and Mexicans will be hosted in Baja California\, Mexico for a Raise the River Mexico Accomplishments Tour facilitated by Meridian International Center and sponsored by the Walton Family Foundation.
URL:https://sandiegodiplomacy.org/event/raise-the-river-mexico/
CATEGORIES:Incoming Delegations
END:VEVENT
BEGIN:VEVENT
DTSTART;VALUE=DATE:20190504
DTEND;VALUE=DATE:20190510
DTSTAMP:20260425T042857
CREATED:20190327T232206Z
LAST-MODIFIED:20190327T232237Z
UID:2321-1556928000-1557446399@sandiegodiplomacy.org
SUMMARY:Diplomatic Protection and Security
DESCRIPTION:7 visitors from the Presidential Guard in West Bank\, Palestine will be coming to make professional connections in San Diego exploring the following specific objectives for the project outlined by the Department of State: \n\nExamine the role of diplomatic security and law enforcement in the U.S. at the federal\, state\, and local levels\, focusing on interstate and international cooperation;\nProvide insight into the development of law enforcement agencies to include programs to improve internal processes and better connect with local communities;\nEmphasize the balance in serving national security interests while protecting the civil rights of victims\, law enforcement and alleged perpetrators; and\nIntroduce methods used in U.S. criminal investigations and prosecutions.
URL:https://sandiegodiplomacy.org/event/diplomatic-protection-and-security/
CATEGORIES:Incoming Delegations
END:VEVENT
BEGIN:VEVENT
DTSTART;VALUE=DATE:20190425
DTEND;VALUE=DATE:20190528
DTSTAMP:20260425T042857
CREATED:20181220T231058Z
LAST-MODIFIED:20181220T231058Z
UID:2163-1556150400-1559001599@sandiegodiplomacy.org
SUMMARY:Professional Fellows Program
DESCRIPTION:Six business leaders from Eastern Europe and Southeast Asia will be in San Diego.
URL:https://sandiegodiplomacy.org/event/professional-fellows-program-2/
CATEGORIES:Incoming Delegations
END:VEVENT
BEGIN:VEVENT
DTSTART;VALUE=DATE:20190424
DTEND;VALUE=DATE:20190428
DTSTAMP:20260425T042857
CREATED:20190327T232015Z
LAST-MODIFIED:20190327T232015Z
UID:2317-1556064000-1556409599@sandiegodiplomacy.org
SUMMARY:Towards A More Safe and Secure World: International Peace and Security
DESCRIPTION:17 visitors from Europe will be coming to make professional connections in San Diego exploring the following specific objectives for the project outlined by the Department of State: \n\nExpose participants to the U.S. security and defense policy-making process and perspectives on global issues;\nExamine specific security issues\, such as regional conflicts\, weapons proliferation\, energy security\, homeland security\, international terrorism\, and the use of preventive diplomacy to address these challenges;\nDiscuss the role of the UN and other international organizations in dealing with global crises; and\nExplore the benefits of bilateral and multilateral cooperation on security policy worldwide.
URL:https://sandiegodiplomacy.org/event/towards-a-more-safe-and-secure-world-international-peace-and-security/
CATEGORIES:Incoming Delegations
END:VEVENT
BEGIN:VEVENT
DTSTART;VALUE=DATE:20190417
DTEND;VALUE=DATE:20190424
DTSTAMP:20260425T042857
CREATED:20190327T231851Z
LAST-MODIFIED:20190327T232501Z
UID:2313-1555459200-1556063999@sandiegodiplomacy.org
SUMMARY:Human and Civil Rights for Marginalized Communities
DESCRIPTION:10 visitors from various countries in Africa will be coming to make professional connections in San Diego exploring the following specific objectives for the project outlined by the Department of State: \n\nApproaches to celebrating diversity;\nPromoting inclusive public attitudes;\nAddressing sensitive issues by working across institutional lines and expanding collaborative networks; and\nDefending the rights of religious and ethnic minorities\, members of the LGBTI community\, refugees\, internally displaced persons\, and other vulnerable populations.
URL:https://sandiegodiplomacy.org/event/human-and-civil-rights-for-marginalized-communities/
CATEGORIES:Incoming Delegations
END:VEVENT
BEGIN:VEVENT
DTSTART;VALUE=DATE:20190416
DTEND;VALUE=DATE:20190421
DTSTAMP:20260425T042857
CREATED:20190327T231710Z
LAST-MODIFIED:20190327T232344Z
UID:2312-1555372800-1555804799@sandiegodiplomacy.org
SUMMARY:Religious and Public Education in the United States
DESCRIPTION:12 visitors from Saudi Arabia will be coming to make professional connections in San Diego exploring the following specific objectives for the project outlined by the Department of State: \n\nProvide an overview of the U.S. system of education;\nExplore the roles of government agencies\, NGOs\, and local community organizations in school governance;\nFamiliarize participants with current trends in curriculum design\, textbook creation\, and the training of teachers in the United States; and\nExpose participants to the study of and incorporation of religion in public and private schools.
URL:https://sandiegodiplomacy.org/event/religious-and-public-education-in-the-united-states/
CATEGORIES:Incoming Delegations
END:VEVENT
BEGIN:VEVENT
DTSTART;VALUE=DATE:20190414
DTEND;VALUE=DATE:20190418
DTSTAMP:20260425T042857
CREATED:20190327T231456Z
LAST-MODIFIED:20190327T231456Z
UID:2311-1555200000-1555545599@sandiegodiplomacy.org
SUMMARY:Marine Mammal Conversation
DESCRIPTION:10 visitors from China will be coming to make professional connections in San Diego exploring the following specific objectives for the project outlined by the Department of State: \n\nTo examine the advanced research and conservation efforts and practices of the U.S. on marine mammal and habitat protection;\nTo explore international cooperation and information exchange efforts regarding marine mammal conservation; and\nTo showcase the roles that scientists\, governments\, and the public impact environmental and aquatic biodiversity protection.
URL:https://sandiegodiplomacy.org/event/marine-mammal-conversation/
CATEGORIES:Incoming Delegations
END:VEVENT
BEGIN:VEVENT
DTSTART;VALUE=DATE:20190412
DTEND;VALUE=DATE:20190418
DTSTAMP:20260425T042857
CREATED:20190327T231134Z
LAST-MODIFIED:20190327T231533Z
UID:2310-1555027200-1555545599@sandiegodiplomacy.org
SUMMARY:Empowering Youth Through Workforce Development
DESCRIPTION:12 visitors from Africa will be coming to make professional connections in San Diego exploring the following specific objectives for the project outlined by the Department of State: \n\nExamine the role vocational education plays in providing Americans with training and skills tailored to fit targeted employment needs;\nDemonstrate specific workforce niches filled by community colleges\, vocational/technology schools\, and certificate programs and how these institutions have evolved to meet economic needs;\nAssess the federal government’s investment in innovative education for youth;\nStudy ways teachers and businesses get youth interested in future-looking careers.
URL:https://sandiegodiplomacy.org/event/empowering-youth-through-workforce-development/
CATEGORIES:Incoming Delegations
END:VEVENT
BEGIN:VEVENT
DTSTART;VALUE=DATE:20190313
DTEND;VALUE=DATE:20190320
DTSTAMP:20260425T042857
CREATED:20181220T231039Z
LAST-MODIFIED:20181220T231039Z
UID:2162-1552435200-1553039999@sandiegodiplomacy.org
SUMMARY:American Language and Multicultural Diversity
DESCRIPTION:7 visitors from multiple countries will be coming to make professional connections in San Diego.
URL:https://sandiegodiplomacy.org/event/american-language-and-multicultural-diversity/
CATEGORIES:Incoming Delegations
END:VEVENT
BEGIN:VEVENT
DTSTART;VALUE=DATE:20190312
DTEND;VALUE=DATE:20190317
DTSTAMP:20260425T042857
CREATED:20181220T231023Z
LAST-MODIFIED:20190130T000859Z
UID:2161-1552348800-1552780799@sandiegodiplomacy.org
SUMMARY:Combating Trafficking in Persons I - POSTPONED
DESCRIPTION:27 visitors from multiple countries will be coming to San Diego to discuss on how to fight against human trafficking. \nThis event is postponed. We will announce the new schedule when updated.
URL:https://sandiegodiplomacy.org/event/combating-trafficking-in-persons-i/
CATEGORIES:Incoming Delegations
END:VEVENT
BEGIN:VEVENT
DTSTART;VALUE=DATE:20190213
DTEND;VALUE=DATE:20190217
DTSTAMP:20260425T042857
CREATED:20181220T231005Z
LAST-MODIFIED:20181220T231005Z
UID:2160-1550016000-1550361599@sandiegodiplomacy.org
SUMMARY:Transparency & Accountability in Government
DESCRIPTION:15 visitors from multiple countries in Africa will be coming to make professional connections in San Diego.
URL:https://sandiegodiplomacy.org/event/transparency-accountability-in-government/
CATEGORIES:Incoming Delegations
END:VEVENT
BEGIN:VEVENT
DTSTART;VALUE=DATE:20190213
DTEND;VALUE=DATE:20190217
DTSTAMP:20260425T042857
CREATED:20181220T230944Z
LAST-MODIFIED:20181220T230944Z
UID:2158-1550016000-1550361599@sandiegodiplomacy.org
SUMMARY:Countering Violent Extremism
DESCRIPTION:10 visitors from multiple countries in Africa will be coming to make professional connections in San Diego.
URL:https://sandiegodiplomacy.org/event/countering-violent-extremism-3/
CATEGORIES:Incoming Delegations
END:VEVENT
BEGIN:VEVENT
DTSTART;VALUE=DATE:20190212
DTEND;VALUE=DATE:20190217
DTSTAMP:20260425T042857
CREATED:20181220T230924Z
LAST-MODIFIED:20181220T230924Z
UID:2159-1549929600-1550361599@sandiegodiplomacy.org
SUMMARY:Foreign Policy + Human Rights
DESCRIPTION:24 visitors from multiple countries will be coming to make professional connections in San Diego.
URL:https://sandiegodiplomacy.org/event/foreign-policy-human-rights/
CATEGORIES:Incoming Delegations
END:VEVENT
END:VCALENDAR